BEGIN:VCALENDAR
VERSION:2.0
PRODID:-//Plone.org//NONSGML plone.app.event//EN
X-WR-TIMEZONE:Europe/Madrid
BEGIN:VEVENT
SUMMARY:Retrats viscuts. Un agraïment fotogràfic a reconeguts arenyencs
DTSTART;TZID=Europe/Madrid;VALUE=DATE-TIME:20141003T200000
DTEND;TZID=Europe/Madrid;VALUE=DATE-TIME:20141003T210000
DTSTAMP;VALUE=DATE-TIME:20260423T144549Z
UID:80ed4f43be41d78ef9d66556723f36da
CREATED;VALUE=DATE-TIME:20141003T000000Z
CATEGORIES:Exposició
LOCATION:Sala Exposicions del C.C.Calisay - Riera del Pare Fita, 31
ORGANIZER:Regidoria de Cultura i AFA
COMMENT:Durada: fins al 26 d'octubre
DESCRIPTION:a càrrec de l'Agrupació Fotogràfica d'Arenys de Mar
URL:https://arenysdemar.cat/document.php?id=28626
END:VEVENT
END:VCALENDAR