BEGIN:VCALENDAR
VERSION:2.0
PRODID:-//Plone.org//NONSGML plone.app.event//EN
X-WR-TIMEZONE:Europe/Madrid
BEGIN:VEVENT
SUMMARY:Quinto
DTSTART;TZID=Europe/Madrid;VALUE=DATE-TIME:20141003T183000
DTEND;TZID=Europe/Madrid;VALUE=DATE-TIME:20141003T193000
DTSTAMP;VALUE=DATE-TIME:20260424T183730Z
UID:91c6b15cb1c4f1f66c7004fdc0ba2265
CREATED;VALUE=DATE-TIME:20141003T000000Z
CATEGORIES:Festa
LOCATION:Esplai/C.C.Calisay - Riera del Pare Fita, 31
ORGANIZER:Esplai de la Gent Gran
URL:https://arenysdemar.cat/document.php?id=28629
END:VEVENT
END:VCALENDAR