BEGIN:VCALENDAR
VERSION:2.0
PRODID:-//Plone.org//NONSGML plone.app.event//EN
X-WR-TIMEZONE:Europe/Madrid
BEGIN:VEVENT
SUMMARY:Inici de la temporada de Learning with books. Begginers. The Tenant of Wildfell Hall by Anne Brönte
DTSTART;TZID=Europe/Madrid;VALUE=DATE-TIME:20141024T203000
DTEND;TZID=Europe/Madrid;VALUE=DATE-TIME:20141024T213000
DTSTAMP;VALUE=DATE-TIME:20260424T190050Z
UID:08f153399a853b321389799c341f9196
CREATED;VALUE=DATE-TIME:20141024T000000Z
CATEGORIES:Literatura
LOCATION:Sala d'Actes de la Biblioteca - C. Bonaire, 2
ORGANIZER:Biblioteca - Regidoria de Cultura i Sakkara Viatges
DESCRIPTION:a càrrec de Brian Doherty
URL:https://arenysdemar.cat/document.php?id=28715
END:VEVENT
END:VCALENDAR