BEGIN:VCALENDAR
VERSION:2.0
PRODID:-//Plone.org//NONSGML plone.app.event//EN
X-WR-TIMEZONE:Europe/Madrid
BEGIN:VEVENT
SUMMARY:Celebració dels 30 anys de l'aula d'adults
DTSTART;TZID=Europe/Madrid;VALUE=DATE-TIME:20141025T200000
DTEND;TZID=Europe/Madrid;VALUE=DATE-TIME:20141025T210000
DTSTAMP;VALUE=DATE-TIME:20260424T190106Z
UID:0562ef2d3adbe8b7d6ef62df37371d0e
CREATED;VALUE=DATE-TIME:20141025T000000Z
CATEGORIES:Festa
LOCATION:Sala Noble del C.C.Calisay - Riera Pare Fita, 31
ORGANIZER:Regidoria d'Educació
DESCRIPTION:Presentació de l'acte i parlaments
URL:https://arenysdemar.cat/document.php?id=28722
END:VEVENT
END:VCALENDAR