BEGIN:VCALENDAR
VERSION:2.0
PRODID:-//Plone.org//NONSGML plone.app.event//EN
X-WR-TIMEZONE:Europe/Madrid
BEGIN:VEVENT
SUMMARY:Converses a la carta en alemany: Gespräche nach wahl
DTSTART;TZID=Europe/Madrid;VALUE=DATE-TIME:20141106T190000
DTEND;TZID=Europe/Madrid;VALUE=DATE-TIME:20141106T200000
DTSTAMP;VALUE=DATE-TIME:20260422T132152Z
UID:2597d76a772f76558b1da44bd93abbb8
CREATED;VALUE=DATE-TIME:20141106T000000Z
CATEGORIES:Literatura
LOCATION:Sala d'Actes de la Biblioteca - C. Bonaire, 2
ORGANIZER:Biblioteca - Regidoria de Cultura
DESCRIPTION:a càrrec de Mireia Saurí
URL:https://arenysdemar.cat/document.php?id=28727
END:VEVENT
END:VCALENDAR