BEGIN:VCALENDAR
VERSION:2.0
PRODID:-//Plone.org//NONSGML plone.app.event//EN
X-WR-TIMEZONE:Europe/Madrid
BEGIN:VEVENT
SUMMARY:Festival artístic per la Marató de TV3
DTSTART;TZID=Europe/Madrid;VALUE=DATE-TIME:20141122T170000
DTEND;TZID=Europe/Madrid;VALUE=DATE-TIME:20141122T180000
DTSTAMP;VALUE=DATE-TIME:20260420T233958Z
UID:6e75d0534e7d0d359c919c485e6a5cd1
CREATED;VALUE=DATE-TIME:20141122T000000Z
CATEGORIES:Festa
LOCATION:Casal de Joventut Seràfica - de la torre, 80
ORGANIZER:Comissió Marató d'Arenys de Mar
COMMENT:Preu: 7&euro;
URL:https://arenysdemar.cat/document.php?id=28728
END:VEVENT
END:VCALENDAR