BEGIN:VCALENDAR
VERSION:2.0
PRODID:-//Plone.org//NONSGML plone.app.event//EN
X-WR-TIMEZONE:Europe/Madrid
BEGIN:VEVENT
SUMMARY:1a Cursa Nocturna Solidària d'Arenys de Mar
DTSTART;TZID=Europe/Madrid;VALUE=DATE-TIME:20141122T200000
DTEND;TZID=Europe/Madrid;VALUE=DATE-TIME:20141122T210000
DTSTAMP;VALUE=DATE-TIME:20260423T134051Z
UID:28926ccdc3209cda87adaf26d7f5b315
CREATED;VALUE=DATE-TIME:20141122T000000Z
CATEGORIES:Esports
LOCATION:Pels carrers d'Arenys
ORGANIZER:Penya Apa Anem-hi
DESCRIPTION:Gran premi Opensport Café
URL:https://arenysdemar.cat/document.php?id=28735
END:VEVENT
END:VCALENDAR