BEGIN:VCALENDAR
VERSION:2.0
PRODID:-//Plone.org//NONSGML plone.app.event//EN
X-WR-TIMEZONE:Europe/Madrid
BEGIN:VEVENT
SUMMARY:Converses a la carta en alemany: Gespräche nach wahl
DTSTART;TZID=Europe/Madrid;VALUE=DATE-TIME:20141120T190000
DTEND;TZID=Europe/Madrid;VALUE=DATE-TIME:20141120T200000
DTSTAMP;VALUE=DATE-TIME:20260423T210931Z
UID:7e1c0a83842ddcc8bef2ada7a22e4d0f
CREATED;VALUE=DATE-TIME:20141120T000000Z
CATEGORIES:Literatura
LOCATION:Sala d'Actes de la Biblioteca - C. Bonaire, 2
ORGANIZER:Biblioteca - Regidoria de Cultura
DESCRIPTION:a càrrec de Mireia Saurí
URL:https://arenysdemar.cat/document.php?id=28749
END:VEVENT
END:VCALENDAR