BEGIN:VCALENDAR
VERSION:2.0
PRODID:-//Plone.org//NONSGML plone.app.event//EN
X-WR-TIMEZONE:Europe/Madrid
BEGIN:VEVENT
SUMMARY:Hora del Conte: Els músics de Bremen
DTSTART;TZID=Europe/Madrid;VALUE=DATE-TIME:20141106T180000
DTEND;TZID=Europe/Madrid;VALUE=DATE-TIME:20141106T190000
DTSTAMP;VALUE=DATE-TIME:20260420T203654Z
UID:0c8cfc85a70c3bf7af80b90377efacd8
CREATED;VALUE=DATE-TIME:20141106T000000Z
CATEGORIES:Literatura,Infantils
LOCATION:Sala d'Actes de la Biblioteca - C. Bonaire, 2
ORGANIZER:Biblioteca - Regidoria de Cultura
DESCRIPTION:a càrrec de Les Contistes
URL:https://arenysdemar.cat/document.php?id=28752
END:VEVENT
END:VCALENDAR