BEGIN:VCALENDAR
VERSION:2.0
PRODID:-//Plone.org//NONSGML plone.app.event//EN
X-WR-TIMEZONE:Europe/Madrid
BEGIN:VEVENT
SUMMARY:Ball de tarda
DTSTART;TZID=Europe/Madrid;VALUE=DATE-TIME:20141130T183000
DTEND;TZID=Europe/Madrid;VALUE=DATE-TIME:20141130T193000
DTSTAMP;VALUE=DATE-TIME:20260424T005728Z
UID:e9418d68247ead2c9a1b7d41627a3096
CREATED;VALUE=DATE-TIME:20141130T000000Z
CATEGORIES:Música
LOCATION:Ateneu Arenyenc
ORGANIZER:Ateneu Arenyenc
COMMENT:Preu: 2 euros
DESCRIPTION:amb D.M. Ateneu
URL:https://arenysdemar.cat/document.php?id=28771
END:VEVENT
END:VCALENDAR