BEGIN:VCALENDAR
VERSION:2.0
PRODID:-//Plone.org//NONSGML plone.app.event//EN
X-WR-TIMEZONE:Europe/Madrid
BEGIN:VEVENT
SUMMARY:Ball del dissabte
DTSTART;TZID=Europe/Madrid;VALUE=DATE-TIME:20141122T223000
DTEND;TZID=Europe/Madrid;VALUE=DATE-TIME:20141122T233000
DTSTAMP;VALUE=DATE-TIME:20260424T001831Z
UID:7c8a07de8aa6cbfad3a90b4163333814
CREATED;VALUE=DATE-TIME:20141122T000000Z
CATEGORIES:Música
LOCATION:Ateneu Arenyenc
ORGANIZER:Ateneu Arenyenc
COMMENT:Preu: Soci 5 euros i no soci 7 euros
DESCRIPTION:amb el Duet Maki Maki
URL:https://arenysdemar.cat/document.php?id=28772
END:VEVENT
END:VCALENDAR