BEGIN:VCALENDAR
VERSION:2.0
PRODID:-//Plone.org//NONSGML plone.app.event//EN
X-WR-TIMEZONE:Europe/Madrid
BEGIN:VEVENT
SUMMARY:1a Gos Fest d'Arenys de Mar
DTSTART;TZID=Europe/Madrid;VALUE=DATE-TIME:20141123T090000
DTEND;TZID=Europe/Madrid;VALUE=DATE-TIME:20141123T100000
DTSTAMP;VALUE=DATE-TIME:20260420T144126Z
UID:d564c2c608947501db59f55838cd176e
CREATED;VALUE=DATE-TIME:20141123T000000Z
CATEGORIES:Mostra
LOCATION:Riera davant de l'edifici Xifré
ORGANIZER:Zooaliment amb la col·laboració de l'Ajuntament d'Arenys de Mar
COMMENT:Preu: Inscripcions gratuïtes a Zooaliment (Riera Pare Fita, 64). Data màxima d'inscripció el 15 de novembre. Places limitades
DESCRIPTION:Desfilada canina per a gossos amb pedigree o sense
URL:https://arenysdemar.cat/document.php?id=28786
END:VEVENT
END:VCALENDAR