BEGIN:VCALENDAR
VERSION:2.0
PRODID:-//Plone.org//NONSGML plone.app.event//EN
X-WR-TIMEZONE:Europe/Madrid
BEGIN:VEVENT
SUMMARY:Caminada Solidària per la Marató de TV3
DTSTART;TZID=Europe/Madrid;VALUE=DATE-TIME:20141107T090000
DTEND;TZID=Europe/Madrid;VALUE=DATE-TIME:20141107T100000
DTSTAMP;VALUE=DATE-TIME:20260420T171148Z
UID:211c4c47ecd926b43cf511f9fce7d8a7
CREATED;VALUE=DATE-TIME:20141107T000000Z
CATEGORIES:Esports
LOCATION:Sortida davant del CC Calisay
ORGANIZER:Comissió Marató d'Arenys de Mar
COMMENT:Preu: Aportació lliure a benefici de la Marató
DESCRIPTION:a càrrec de l'Esplai de la Gent Gran
URL:https://arenysdemar.cat/document.php?id=28787
END:VEVENT
END:VCALENDAR