BEGIN:VCALENDAR
VERSION:2.0
PRODID:-//Plone.org//NONSGML plone.app.event//EN
X-WR-TIMEZONE:Europe/Madrid
BEGIN:VEVENT
SUMMARY:Concert : Alabatre Blues a càrrec de Big Mama Montse
DTSTART;TZID=Europe/Madrid;VALUE=DATE-TIME:20141125T200000
DTEND;TZID=Europe/Madrid;VALUE=DATE-TIME:20141125T210000
DTSTAMP;VALUE=DATE-TIME:20260420T164432Z
UID:6333fe849f9aa8cf3630460a03196014
CREATED;VALUE=DATE-TIME:20141125T000000Z
CATEGORIES:Música
LOCATION:Teatre Principal - C. Església, 45-47
ORGANIZER:Associació de Dones per a la Igualtat d'Arenys de Mar
COMMENT:Preu: Gratüit
DESCRIPTION:Idea, recopilació i músiques, per Big Mama Montse
URL:https://arenysdemar.cat/document.php?id=28788
END:VEVENT
END:VCALENDAR