BEGIN:VCALENDAR
VERSION:2.0
PRODID:-//Plone.org//NONSGML plone.app.event//EN
X-WR-TIMEZONE:Europe/Madrid
BEGIN:VEVENT
SUMMARY:Teatre: Horrible nit dels morts
DTSTART;TZID=Europe/Madrid;VALUE=DATE-TIME:20141101T203000
DTEND;TZID=Europe/Madrid;VALUE=DATE-TIME:20141101T213000
DTSTAMP;VALUE=DATE-TIME:20260420T134124Z
UID:67910e13a6fd769bfbe8090c105ff175
CREATED;VALUE=DATE-TIME:20141101T000000Z
CATEGORIES:Festa,Teatre
LOCATION:Casal de Joventut Seràfica - de la torre, 80
ORGANIZER:Casal de Joventut Seràfica
DESCRIPTION:L'espantós túnel del terror i l'horrorós conte l'Urpa de mico
URL:https://arenysdemar.cat/document.php?id=28790
END:VEVENT
END:VCALENDAR