BEGIN:VCALENDAR
VERSION:2.0
PRODID:-//Plone.org//NONSGML plone.app.event//EN
X-WR-TIMEZONE:Europe/Madrid
BEGIN:VEVENT
SUMMARY:Debat: Estalvi energètic i producció d'energia
DTSTART;TZID=Europe/Madrid;VALUE=DATE-TIME:20141114T193000
DTEND;TZID=Europe/Madrid;VALUE=DATE-TIME:20141114T203000
DTSTAMP;VALUE=DATE-TIME:20260421T202239Z
UID:191e337c9b9a699eece0dad7ccc29eeb
CREATED;VALUE=DATE-TIME:20141114T000000Z
CATEGORIES:Conferència
LOCATION:Ateneu Arenyenc
ORGANIZER:Ateneu Arenyenc, Cooperativa El Rial i Banc del Temps
COMMENT:Preu: Gratuït
DESCRIPTION:Cicle Sobirania popular i apoderament
URL:https://arenysdemar.cat/document.php?id=28798
END:VEVENT
END:VCALENDAR