BEGIN:VCALENDAR
VERSION:2.0
PRODID:-//Plone.org//NONSGML plone.app.event//EN
X-WR-TIMEZONE:Europe/Madrid
BEGIN:VEVENT
SUMMARY:Fem cagar el Tió!
DTSTART;TZID=Europe/Madrid;VALUE=DATE-TIME:20141221T110000
DTEND;TZID=Europe/Madrid;VALUE=DATE-TIME:20141221T120000
DTSTAMP;VALUE=DATE-TIME:20260420T204401Z
UID:b82dd0e146b29731a04e3ed16b4ea08a
CREATED;VALUE=DATE-TIME:20141221T000000Z
CATEGORIES:Infantils
LOCATION:Pati del C.C.Calisay - Riera del Pare Fita, 31
ORGANIZER:OCR i Regidoria de Cultura
COMMENT:Durada: fins a les 2 del migdia
URL:https://arenysdemar.cat/document.php?id=28819
END:VEVENT
END:VCALENDAR