BEGIN:VCALENDAR
VERSION:2.0
PRODID:-//Plone.org//NONSGML plone.app.event//EN
X-WR-TIMEZONE:Europe/Madrid
BEGIN:VEVENT
SUMMARY:Ball del dissabte
DTSTART;TZID=Europe/Madrid;VALUE=DATE-TIME:20141220T223000
DTEND;TZID=Europe/Madrid;VALUE=DATE-TIME:20141220T233000
DTSTAMP;VALUE=DATE-TIME:20260422T130016Z
UID:22c8adb428a0ec11e6ad39896e9f071b
CREATED;VALUE=DATE-TIME:20141220T000000Z
CATEGORIES:Música
LOCATION:Ateneu Arenyenc
ORGANIZER:Ateneu Arenyenc
COMMENT:Preu: Soci 5 euros i no soci 7 euros
DESCRIPTION:amb l'actuació del Grup Choffers
URL:https://arenysdemar.cat/document.php?id=28874
END:VEVENT
END:VCALENDAR