BEGIN:VCALENDAR
VERSION:2.0
PRODID:-//Plone.org//NONSGML plone.app.event//EN
X-WR-TIMEZONE:Europe/Madrid
BEGIN:VEVENT
SUMMARY:Mercat de la il·lusió
DTSTART;TZID=Europe/Madrid;VALUE=DATE-TIME:20141129T090000
DTEND;TZID=Europe/Madrid;VALUE=DATE-TIME:20141129T100000
DTSTAMP;VALUE=DATE-TIME:20260420T152427Z
UID:8964bffcee0ab12a66fe05708662a92c
CREATED;VALUE=DATE-TIME:20141129T000000Z
LOCATION:Sala Polivalent del C.C.Calisay - Riera Pare Fita, 31
COMMENT:Durada: També el 30 de novembre
URL:https://arenysdemar.cat/document.php?id=28887
END:VEVENT
END:VCALENDAR