BEGIN:VCALENDAR
VERSION:2.0
PRODID:-//Plone.org//NONSGML plone.app.event//EN
X-WR-TIMEZONE:Europe/Madrid
BEGIN:VEVENT
SUMMARY:Festa de Nadal 2014 per la Mataró de TV3
DTSTART;TZID=Europe/Madrid;VALUE=DATE-TIME:20141214T110000
DTEND;TZID=Europe/Madrid;VALUE=DATE-TIME:20141214T120000
DTSTAMP;VALUE=DATE-TIME:20260420T120655Z
UID:671ca87cbe5268e02d9ba15deba3eac9
CREATED;VALUE=DATE-TIME:20141214T000000Z
CATEGORIES:Festa,Infantils,Música
LOCATION:Patis de l'Escola Joan Maragall
ORGANIZER:AMPA de l'Escola Joan Maragall
COMMENT:Preu: 1&euro; per taller realitzat
URL:https://arenysdemar.cat/document.php?id=28897
END:VEVENT
END:VCALENDAR