BEGIN:VCALENDAR
VERSION:2.0
PRODID:-//Plone.org//NONSGML plone.app.event//EN
X-WR-TIMEZONE:Europe/Madrid
BEGIN:VEVENT
SUMMARY:És Nadal al Mercat
DTSTART;TZID=Europe/Madrid;VALUE=DATE-TIME:20141219T190000
DTEND;TZID=Europe/Madrid;VALUE=DATE-TIME:20141219T200000
DTSTAMP;VALUE=DATE-TIME:20260424T112619Z
UID:b9b433cfd46113f239f1e60e9614eef3
CREATED;VALUE=DATE-TIME:20141219T000000Z
CATEGORIES:Mostra
LOCATION:Mercat Municipal
ORGANIZER:Regidoria de Promoció Econòmica
URL:https://arenysdemar.cat/document.php?id=28905
END:VEVENT
END:VCALENDAR