BEGIN:VCALENDAR
VERSION:2.0
PRODID:-//Plone.org//NONSGML plone.app.event//EN
X-WR-TIMEZONE:Europe/Madrid
BEGIN:VEVENT
SUMMARY:Jornada portes obertes a l'Hort Sóc Pagès
DTSTART;TZID=Europe/Madrid;VALUE=DATE-TIME:20141214T100000
DTEND;TZID=Europe/Madrid;VALUE=DATE-TIME:20141214T110000
DTSTAMP;VALUE=DATE-TIME:20260420T224711Z
UID:bf11cc8f02636ce18546384ca7fd06f2
CREATED;VALUE=DATE-TIME:20141214T000000Z
CATEGORIES:Mostra
LOCATION:Plaça Ajuntament - Riera Bisbe Pol, 8
ORGANIZER:Sóc Pagès amb la col·laboració de l'Ajuntament d'Arenys de Mar i Sinera Cultura
COMMENT:Preu: Gratuït
DESCRIPTION:Visita guiada a l'hort
URL:https://arenysdemar.cat/document.php?id=28907
END:VEVENT
END:VCALENDAR