BEGIN:VCALENDAR
VERSION:2.0
PRODID:-//Plone.org//NONSGML plone.app.event//EN
X-WR-TIMEZONE:Europe/Madrid
BEGIN:VEVENT
SUMMARY:Converses a la carta en francès: Français à la carte
DTSTART;TZID=Europe/Madrid;VALUE=DATE-TIME:20141217T190000
DTEND;TZID=Europe/Madrid;VALUE=DATE-TIME:20141217T200000
DTSTAMP;VALUE=DATE-TIME:20260424T011118Z
UID:7c8afcd8071b862d404969e059b99758
CREATED;VALUE=DATE-TIME:20141217T000000Z
LOCATION:Sala d'Actes de la Biblioteca - C. Bonaire, 2
ORGANIZER:Biblioteca - Regidoria de Cultura
DESCRIPTION:a càrrec de Dominique Jiménez
URL:https://arenysdemar.cat/document.php?id=28914
END:VEVENT
END:VCALENDAR