BEGIN:VCALENDAR
VERSION:2.0
PRODID:-//Plone.org//NONSGML plone.app.event//EN
X-WR-TIMEZONE:Europe/Madrid
BEGIN:VEVENT
SUMMARY:Ball de Cap d'any
DTSTART;TZID=Europe/Madrid;VALUE=DATE-TIME:20150101T010000
DTEND;TZID=Europe/Madrid;VALUE=DATE-TIME:20150101T020000
DTSTAMP;VALUE=DATE-TIME:20260421T172518Z
UID:45e1e5e8559a3ad9e2f89f1f349d3e4c
CREATED;VALUE=DATE-TIME:20150101T000000Z
CATEGORIES:Festa
LOCATION:Sala Polivalent del C.C.Calisay - Riera Pare Fita, 31
ORGANIZER:Futsal i Club de Patinatge Artístic Arenys de Mar
DESCRIPTION:al C.C.Calisay
URL:https://arenysdemar.cat/document.php?id=28926
END:VEVENT
END:VCALENDAR