BEGIN:VCALENDAR
VERSION:2.0
PRODID:-//Plone.org//NONSGML plone.app.event//EN
X-WR-TIMEZONE:Europe/Madrid
BEGIN:VEVENT
SUMMARY:Per Nadal, decorem l'Espai Jove!
DTSTART;TZID=Europe/Madrid;VALUE=DATE-TIME:20141213T170000
DTEND;TZID=Europe/Madrid;VALUE=DATE-TIME:20141213T180000
DTSTAMP;VALUE=DATE-TIME:20260420T153404Z
UID:af23e68ec4326de23f973d084e7bd08c
CREATED;VALUE=DATE-TIME:20141213T000000Z
CATEGORIES:Festa
LOCATION:Espai Jove del C.C.Calisay - Riera del Pare Fita, 31
ORGANIZER:Regidoria d'Infància i Joventut
URL:https://arenysdemar.cat/document.php?id=28929
END:VEVENT
END:VCALENDAR