BEGIN:VCALENDAR
VERSION:2.0
PRODID:-//Plone.org//NONSGML plone.app.event//EN
X-WR-TIMEZONE:Europe/Madrid
BEGIN:VEVENT
SUMMARY:3X3 de Bàsquet ACTIVITAT SUSPESA
DTSTART;TZID=Europe/Madrid;VALUE=DATE-TIME:20141227T170000
DTEND;TZID=Europe/Madrid;VALUE=DATE-TIME:20141227T180000
DTSTAMP;VALUE=DATE-TIME:20260424T024632Z
UID:b357e8eb0eed0d260da0a49e98a09911
CREATED;VALUE=DATE-TIME:20141227T000000Z
LOCATION:Pavelló Municipal
ORGANIZER:Regidoria d'Infància i Joventut
URL:https://arenysdemar.cat/document.php?id=28930
END:VEVENT
END:VCALENDAR