BEGIN:VCALENDAR
VERSION:2.0
PRODID:-//Plone.org//NONSGML plone.app.event//EN
X-WR-TIMEZONE:Europe/Madrid
BEGIN:VEVENT
SUMMARY:Fem un pica-pica a l'Espai Jove!
DTSTART;TZID=Europe/Madrid;VALUE=DATE-TIME:20141220T170000
DTEND;TZID=Europe/Madrid;VALUE=DATE-TIME:20141220T180000
DTSTAMP;VALUE=DATE-TIME:20260420T120627Z
UID:9130ed096f6b4d30bea1343063ea8b46
CREATED;VALUE=DATE-TIME:20141220T000000Z
CATEGORIES:Festa
LOCATION:Espai Jove del C.C.Calisay - Riera del Pare Fita, 31
ORGANIZER:Regidoria d'Infància i Joventut
URL:https://arenysdemar.cat/document.php?id=28931
END:VEVENT
END:VCALENDAR