BEGIN:VCALENDAR
VERSION:2.0
PRODID:-//Plone.org//NONSGML plone.app.event//EN
X-WR-TIMEZONE:Europe/Madrid
BEGIN:VEVENT
SUMMARY:Concert de Nadal amb el Cor l'Aixa i Vox·Art
DTSTART;TZID=Europe/Madrid;VALUE=DATE-TIME:20141220T213000
DTEND;TZID=Europe/Madrid;VALUE=DATE-TIME:20141220T223000
DTSTAMP;VALUE=DATE-TIME:20260423T115330Z
UID:2f4c8a4ff02b89949c49a0cb110e2a53
CREATED;VALUE=DATE-TIME:20141220T000000Z
CATEGORIES:Música
LOCATION:Església del Convent dels Frares Caputxins
ORGANIZER:Cor l'Aixa i conjunt Vox·Art
URL:https://arenysdemar.cat/document.php?id=28932
END:VEVENT
END:VCALENDAR