BEGIN:VCALENDAR
VERSION:2.0
PRODID:-//Plone.org//NONSGML plone.app.event//EN
X-WR-TIMEZONE:Europe/Madrid
BEGIN:VEVENT
SUMMARY:Setmana de mostres i concerts de Nadal
DTSTART;TZID=Europe/Madrid;VALUE=DATE-TIME:20141217T180000
DTEND;TZID=Europe/Madrid;VALUE=DATE-TIME:20141217T190000
DTSTAMP;VALUE=DATE-TIME:20260421T161355Z
UID:6cba804db688ddc41bf7c47349d21a9c
CREATED;VALUE=DATE-TIME:20141217T000000Z
CATEGORIES:Música
LOCATION:Auditori J.M. Arnau del C.C.Calisay - Riera del Pare Fita, 31
ORGANIZER:Escola de Música d'Arenys de Mar
DESCRIPTION:a càrrec dels alumnes de l'Escola de Música
URL:https://arenysdemar.cat/document.php?id=28934
END:VEVENT
END:VCALENDAR