BEGIN:VCALENDAR
VERSION:2.0
PRODID:-//Plone.org//NONSGML plone.app.event//EN
X-WR-TIMEZONE:Europe/Madrid
BEGIN:VEVENT
SUMMARY:Concert de Nadal
DTSTART;TZID=Europe/Madrid;VALUE=DATE-TIME:20141219T180000
DTEND;TZID=Europe/Madrid;VALUE=DATE-TIME:20141219T190000
DTSTAMP;VALUE=DATE-TIME:20260420T193624Z
UID:77b06e26a1925a5ac3535b6ecf27b502
CREATED;VALUE=DATE-TIME:20141219T000000Z
CATEGORIES:Música
LOCATION:Convent dels Frares Caputxins
ORGANIZER:Escola de Música d'Arenys de Mar
DESCRIPTION:Cantata: Conte de Nadal
URL:https://arenysdemar.cat/document.php?id=28936
END:VEVENT
END:VCALENDAR