BEGIN:VCALENDAR
VERSION:2.0
PRODID:-//Plone.org//NONSGML plone.app.event//EN
X-WR-TIMEZONE:Europe/Madrid
BEGIN:VEVENT
SUMMARY:Espectacle infantil i proclamació de la imatge guanyadora de la nova campanya de foment de la recollida selectiva
DTSTART;TZID=Europe/Madrid;VALUE=DATE-TIME:20141124T120000
DTEND;TZID=Europe/Madrid;VALUE=DATE-TIME:20141124T130000
DTSTAMP;VALUE=DATE-TIME:20260420T104709Z
UID:61df5c116afc5d12809808e0f7c0463d
CREATED;VALUE=DATE-TIME:20141124T000000Z
CATEGORIES:Infantils
LOCATION:Riera, davant del C.C. Calisay
ORGANIZER:Regidoria de Medi Ambient
DESCRIPTION:Setmana Europea de Prevenció de Residus
URL:https://arenysdemar.cat/document.php?id=28961
END:VEVENT
END:VCALENDAR