BEGIN:VCALENDAR
VERSION:2.0
PRODID:-//Plone.org//NONSGML plone.app.event//EN
X-WR-TIMEZONE:Europe/Madrid
BEGIN:VEVENT
SUMMARY:Exposició: Les imatges del 1r lliurament
DTSTART;TZID=Europe/Madrid;VALUE=DATE-TIME:20150116T200000
DTEND;TZID=Europe/Madrid;VALUE=DATE-TIME:20150116T210000
DTSTAMP;VALUE=DATE-TIME:20260420T141834Z
UID:3842b3261b64ee399a42479a1cf5e6c8
CREATED;VALUE=DATE-TIME:20150116T000000Z
CATEGORIES:Exposició
LOCATION:Casal de Joventut Seràfica - Josep Baralt, s/n
ORGANIZER:Agrupació Fotogràfica d'Arenys de Mar
COMMENT:Durada: fins al 4 de febrer
DESCRIPTION:11a Lliga Social de Fotografia
URL:https://arenysdemar.cat/document.php?id=28976
END:VEVENT
END:VCALENDAR