BEGIN:VCALENDAR
VERSION:2.0
PRODID:-//Plone.org//NONSGML plone.app.event//EN
X-WR-TIMEZONE:Europe/Madrid
BEGIN:VEVENT
SUMMARY:Exposició: Les imatges del 5è lliurament
DTSTART;TZID=Europe/Madrid;VALUE=DATE-TIME:20150508T200000
DTEND;TZID=Europe/Madrid;VALUE=DATE-TIME:20150508T210000
DTSTAMP;VALUE=DATE-TIME:20260424T125812Z
UID:68fac7a8379e392fc369813339b02f16
CREATED;VALUE=DATE-TIME:20150508T000000Z
CATEGORIES:Exposició
LOCATION:Casal de Joventut Seràfica - Josep Baralt, s/n
ORGANIZER:Agrupació Fotogràfica d'Arenys de Mar
COMMENT:Durada: Fins al 10 de juny
DESCRIPTION:11a Lliga Social de Fotografia
URL:https://arenysdemar.cat/document.php?id=28980
END:VEVENT
END:VCALENDAR