BEGIN:VCALENDAR
VERSION:2.0
PRODID:-//Plone.org//NONSGML plone.app.event//EN
X-WR-TIMEZONE:Europe/Madrid
BEGIN:VEVENT
SUMMARY:Exposició: Les imatges del 6è lliurament
DTSTART;TZID=Europe/Madrid;VALUE=DATE-TIME:20150612T200000
DTEND;TZID=Europe/Madrid;VALUE=DATE-TIME:20150612T210000
DTSTAMP;VALUE=DATE-TIME:20260420T180231Z
UID:cddf9bb57b5608a26e15f77a75d52a27
CREATED;VALUE=DATE-TIME:20150612T000000Z
CATEGORIES:Exposició
LOCATION:Casal de Joventut Seràfica - Josep Baralt, s/n
ORGANIZER:Agrupació Fotogràfica d'Arenys de Mar
COMMENT:Durada: Fins l'11 de juliol
DESCRIPTION:11a Lliga Social de Fotografia
URL:https://arenysdemar.cat/document.php?id=28981
END:VEVENT
END:VCALENDAR