BEGIN:VCALENDAR
VERSION:2.0
PRODID:-//Plone.org//NONSGML plone.app.event//EN
X-WR-TIMEZONE:Europe/Madrid
BEGIN:VEVENT
SUMMARY:43è Concurs de Teatre Premi Vila d'Arenys de Mar: Políticament Incorrecte de Ray Cooney
DTSTART;TZID=Europe/Madrid;VALUE=DATE-TIME:20150125T180000
DTEND;TZID=Europe/Madrid;VALUE=DATE-TIME:20150125T190000
DTSTAMP;VALUE=DATE-TIME:20260420T200733Z
UID:eda4a2227e6663f55adfc65a7a517657
CREATED;VALUE=DATE-TIME:20150125T000000Z
CATEGORIES:Teatre
LOCATION:Teatre dels Seràfics
ORGANIZER:GACX i Regidoria de Cultura
COMMENT:Preu: 7 general, 5 socis i 1 estudiants
DESCRIPTION:a càrrec del Grup Inestable Ceretana de Teatre de Puigcerdà
URL:https://arenysdemar.cat/document.php?id=29004
END:VEVENT
END:VCALENDAR