BEGIN:VCALENDAR
VERSION:2.0
PRODID:-//Plone.org//NONSGML plone.app.event//EN
X-WR-TIMEZONE:Europe/Madrid
BEGIN:VEVENT
SUMMARY:Taller de música en família per infants d´1 a 2 anys
DTSTART;TZID=Europe/Madrid;VALUE=DATE-TIME:20150124T110000
DTEND;TZID=Europe/Madrid;VALUE=DATE-TIME:20150124T120000
DTSTAMP;VALUE=DATE-TIME:20260423T132531Z
UID:1a4603a9b7b65a77770f80950fcb0612
CREATED;VALUE=DATE-TIME:20150124T000000Z
CATEGORIES:Infantils,Música
LOCATION:Sala d'Actes de la Biblioteca - C. Bonaire, 2
ORGANIZER:Biblioteca - Regidoria de Cultura
COMMENT:Preu: Gratuït. Places limitades. Inscripcions a la Biblioteca
DESCRIPTION:a càrrec de Laia Torres Badosa, pedagoga musical i musicoterapeuta
URL:https://arenysdemar.cat/document.php?id=29026
END:VEVENT
END:VCALENDAR