BEGIN:VCALENDAR
VERSION:2.0
PRODID:-//Plone.org//NONSGML plone.app.event//EN
X-WR-TIMEZONE:Europe/Madrid
BEGIN:VEVENT
SUMMARY:Recollida d'ampolles de cava buides
DTSTART;TZID=Europe/Madrid;VALUE=DATE-TIME:20150111T090000
DTEND;TZID=Europe/Madrid;VALUE=DATE-TIME:20150111T100000
DTSTAMP;VALUE=DATE-TIME:20260423T194051Z
UID:7454e25d01139125533991903bd97b51
CREATED;VALUE=DATE-TIME:20150111T000000Z
LOCATION:Tot arenys-el contenidor principal serà a la riera, davant del xifré
ORGANIZER:Agrupament Escolta i Guia Flos i Calcat
URL:https://arenysdemar.cat/document.php?id=29038
END:VEVENT
END:VCALENDAR