BEGIN:VCALENDAR
VERSION:2.0
PRODID:-//Plone.org//NONSGML plone.app.event//EN
X-WR-TIMEZONE:Europe/Madrid
BEGIN:VEVENT
SUMMARY:Ball del dissabte
DTSTART;TZID=Europe/Madrid;VALUE=DATE-TIME:20150124T223000
DTEND;TZID=Europe/Madrid;VALUE=DATE-TIME:20150124T233000
DTSTAMP;VALUE=DATE-TIME:20260421T010855Z
UID:e239c22ececf8dbb6f638d5a1ff4088a
CREATED;VALUE=DATE-TIME:20150124T000000Z
CATEGORIES:Música
LOCATION:Ateneu Arenyenc
ORGANIZER:Ateneu Arenyenc
COMMENT:Preu: Soci 5 euros i no soci 7 euros
DESCRIPTION:amb l'actuació del Duet Maki Maki
URL:https://arenysdemar.cat/document.php?id=29041
END:VEVENT
END:VCALENDAR