BEGIN:VCALENDAR
VERSION:2.0
PRODID:-//Plone.org//NONSGML plone.app.event//EN
X-WR-TIMEZONE:Europe/Madrid
BEGIN:VEVENT
SUMMARY:Hora del Conte
DTSTART;TZID=Europe/Madrid;VALUE=DATE-TIME:20150115T180000
DTEND;TZID=Europe/Madrid;VALUE=DATE-TIME:20150115T190000
DTSTAMP;VALUE=DATE-TIME:20260420T185118Z
UID:a258d7fb009c4a1a21857cf6236a64eb
CREATED;VALUE=DATE-TIME:20150115T000000Z
CATEGORIES:Literatura,Infantils
LOCATION:Sala d'Actes de la Biblioteca - C. Bonaire, 2
ORGANIZER:Biblioteca - Regidoria de Cultura
DESCRIPTION:a càrrec d'Anna Danés
URL:https://arenysdemar.cat/document.php?id=29045
END:VEVENT
END:VCALENDAR