BEGIN:VCALENDAR
VERSION:2.0
PRODID:-//Plone.org//NONSGML plone.app.event//EN
X-WR-TIMEZONE:Europe/Madrid
BEGIN:VEVENT
SUMMARY:Fira del nen    ACTIVITAT SUSPESA
DTSTART;TZID=Europe/Madrid;VALUE=DATE-TIME:20150125T000000
DTEND;TZID=Europe/Madrid;VALUE=DATE-TIME:20150125T010000
DTSTAMP;VALUE=DATE-TIME:20260420T092743Z
UID:8b9adc0974b064717d80c1de104c27cf
CREATED;VALUE=DATE-TIME:20150125T000000Z
CATEGORIES:Infantils
LOCATION:Sala Polivalent del C.C.Calisay - Riera Pare Fita, 31
ORGANIZER:Crisàlide
URL:https://arenysdemar.cat/document.php?id=29046
END:VEVENT
END:VCALENDAR