BEGIN:VCALENDAR
VERSION:2.0
PRODID:-//Plone.org//NONSGML plone.app.event//EN
X-WR-TIMEZONE:Europe/Madrid
BEGIN:VEVENT
SUMMARY:Taller de contes
DTSTART;TZID=Europe/Madrid;VALUE=DATE-TIME:20141219T000000
DTEND;TZID=Europe/Madrid;VALUE=DATE-TIME:20141219T010000
DTSTAMP;VALUE=DATE-TIME:20260420T164931Z
UID:5d7e7d9d4fce91a21791ae0777706be2
CREATED;VALUE=DATE-TIME:20141219T000000Z
CATEGORIES:Cursos
LOCATION:Casal de Joventut Seràfica - de la torre, 80
ORGANIZER:Ajuntament d'Arenys de Mar
COMMENT:Preu: 10 &euro;
URL:https://arenysdemar.cat/document.php?id=29105
END:VEVENT
END:VCALENDAR