BEGIN:VCALENDAR
VERSION:2.0
PRODID:-//Plone.org//NONSGML plone.app.event//EN
X-WR-TIMEZONE:Europe/Madrid
BEGIN:VEVENT
SUMMARY:Concert de màscares
DTSTART;TZID=Europe/Madrid;VALUE=DATE-TIME:20150213T220000
DTEND;TZID=Europe/Madrid;VALUE=DATE-TIME:20150213T230000
DTSTAMP;VALUE=DATE-TIME:20260424T005352Z
UID:c2683ac18e054c892e58ba7b28c62413
CREATED;VALUE=DATE-TIME:20150213T000000Z
CATEGORIES:Dansa,Festa
LOCATION:Sala Polivalent del C.C.Calisay - Riera Pare Fita, 31
ORGANIZER:Ass de Ball Chickens Hopper d'Arenys de Mar. Col·labora Ajuntament d'Arenys de Mar
COMMENT:Preu: 5
Durada: fins la 1 de la matinada
DESCRIPTION:Ball ambientat al Chicago dels anys 30 amb l'actuació de Hat Hausen Elastic Band i Nòmada Trio amb l'espectacle Let&#8217;s Swing
URL:https://arenysdemar.cat/document.php?id=29187
END:VEVENT
END:VCALENDAR