BEGIN:VCALENDAR
VERSION:2.0
PRODID:-//Plone.org//NONSGML plone.app.event//EN
X-WR-TIMEZONE:Europe/Madrid
BEGIN:VEVENT
SUMMARY:Tertúlia de novel·la : Stoner, de John Williams
DTSTART;TZID=Europe/Madrid;VALUE=DATE-TIME:20150223T190000
DTEND;TZID=Europe/Madrid;VALUE=DATE-TIME:20150223T200000
DTSTAMP;VALUE=DATE-TIME:20260422T124937Z
UID:2621a7d87ab854552c1889562c0148d4
CREATED;VALUE=DATE-TIME:20150223T000000Z
CATEGORIES:Literatura
LOCATION:Sala d'Actes de la Biblioteca - C. Bonaire, 2
ORGANIZER:Biblioteca - Regidoria de Cultura
DESCRIPTION:a càrrec de Teresa Montmany
URL:https://arenysdemar.cat/document.php?id=29195
END:VEVENT
END:VCALENDAR