BEGIN:VCALENDAR
VERSION:2.0
PRODID:-//Plone.org//NONSGML plone.app.event//EN
X-WR-TIMEZONE:Europe/Madrid
BEGIN:VEVENT
SUMMARY:Fira d'Artesania
DTSTART;TZID=Europe/Madrid;VALUE=DATE-TIME:20150607T100000
DTEND;TZID=Europe/Madrid;VALUE=DATE-TIME:20150607T110000
DTSTAMP;VALUE=DATE-TIME:20260420T150945Z
UID:eda1838ebaa85a8057255fdc9091d770
CREATED;VALUE=DATE-TIME:20150607T000000Z
CATEGORIES:Mostra
LOCATION:Plaça Ajuntament i part baixa de la Riera
ORGANIZER:Associació Col·leccionisme Nou i Vell (Crisàlide)
COMMENT:Preu: Gratuït
Durada: fins a les 8 del vespre
URL:https://arenysdemar.cat/document.php?id=29229
END:VEVENT
END:VCALENDAR