BEGIN:VCALENDAR
VERSION:2.0
PRODID:-//Plone.org//NONSGML plone.app.event//EN
X-WR-TIMEZONE:Europe/Madrid
BEGIN:VEVENT
SUMMARY:Ball de tarda
DTSTART;TZID=Europe/Madrid;VALUE=DATE-TIME:20150322T183000
DTEND;TZID=Europe/Madrid;VALUE=DATE-TIME:20150322T193000
DTSTAMP;VALUE=DATE-TIME:20260420T203038Z
UID:52016bb136fb689d1b4094902dcdcfa6
CREATED;VALUE=DATE-TIME:20150322T000000Z
CATEGORIES:Música
LOCATION:Ateneu Arenyenc
ORGANIZER:Ateneu Arenyenc
COMMENT:Preu: Preu únic 2 euros
DESCRIPTION:amb D.M. Ateneu
URL:https://arenysdemar.cat/document.php?id=29285
END:VEVENT
END:VCALENDAR