BEGIN:VCALENDAR
VERSION:2.0
PRODID:-//Plone.org//NONSGML plone.app.event//EN
X-WR-TIMEZONE:Europe/Madrid
BEGIN:VEVENT
SUMMARY:Assemblea general ordinària de l'Esplai de la Gent Gran
DTSTART;TZID=Europe/Madrid;VALUE=DATE-TIME:20150312T173000
DTEND;TZID=Europe/Madrid;VALUE=DATE-TIME:20150312T183000
DTSTAMP;VALUE=DATE-TIME:20260421T180815Z
UID:abc0226e89fb7121014a99384c4927f3
CREATED;VALUE=DATE-TIME:20150312T000000Z
LOCATION:Esplai/C.C.Calisay - Riera del Pare Fita, 31
ORGANIZER:Esplai de la Gent Gran
URL:https://arenysdemar.cat/document.php?id=29306
END:VEVENT
END:VCALENDAR