BEGIN:VCALENDAR
VERSION:2.0
PRODID:-//Plone.org//NONSGML plone.app.event//EN
X-WR-TIMEZONE:Europe/Madrid
BEGIN:VEVENT
SUMMARY:Dream Market
DTSTART;TZID=Europe/Madrid;VALUE=DATE-TIME:20150314T100000
DTEND;TZID=Europe/Madrid;VALUE=DATE-TIME:20150314T110000
DTSTAMP;VALUE=DATE-TIME:20260423T144910Z
UID:c6aeb39c4fb14879f56e34d3d7e0d19e
CREATED;VALUE=DATE-TIME:20150314T000000Z
CATEGORIES:Mostra
LOCATION:Plaça de l'Església - Plaça de l'Església
ORGANIZER:Circus SCP i Ajuntament d'Arenys de Mar
COMMENT:Preu: Gratuït
Durada: També diumenge 15 de març. Fins a les 8 del vespre
DESCRIPTION:ACTE POSPOSAT
URL:https://arenysdemar.cat/document.php?id=29308
END:VEVENT
END:VCALENDAR