BEGIN:VCALENDAR
VERSION:2.0
PRODID:-//Plone.org//NONSGML plone.app.event//EN
X-WR-TIMEZONE:Europe/Madrid
BEGIN:VEVENT
SUMMARY:34a Mostra Literària d'Arenys de Mar
DTSTART;TZID=Europe/Madrid;VALUE=DATE-TIME:20150327T000000
DTEND;TZID=Europe/Madrid;VALUE=DATE-TIME:20150327T010000
DTSTAMP;VALUE=DATE-TIME:20260421T135542Z
UID:c82e43508516c8ff29eab7b81e8eb7b2
CREATED;VALUE=DATE-TIME:20150327T000000Z
CATEGORIES:Literatura
LOCATION:OAC Ajuntament d'Arenys de Mar
ORGANIZER:Regidoria de Cultura, Regidoria d'Educació i Servei Municipal de Català
DESCRIPTION:Premis Mn. Martí Amagat
URL:https://arenysdemar.cat/document.php?id=29313
END:VEVENT
END:VCALENDAR