BEGIN:VCALENDAR
VERSION:2.0
PRODID:-//Plone.org//NONSGML plone.app.event//EN
X-WR-TIMEZONE:Europe/Madrid
BEGIN:VEVENT
SUMMARY:Inauguració exposició fotogràfica: Arenys inesperat
DTSTART;TZID=Europe/Madrid;VALUE=DATE-TIME:20150306T200000
DTEND;TZID=Europe/Madrid;VALUE=DATE-TIME:20150306T210000
DTSTAMP;VALUE=DATE-TIME:20260423T132852Z
UID:6804bd3a1cc2051ab455fec188aeec36
CREATED;VALUE=DATE-TIME:20150306T000000Z
CATEGORIES:Exposició
LOCATION:Sala Exposicions del C.C.Calisay - Riera del Pare Fita, 31
ORGANIZER:Regidoria de Cultura i AFA
COMMENT:Durada: fins al 29 de març
DESCRIPTION:a càrrec de l'Agrupació Fotogràfica d'Arenys de Mar
URL:https://arenysdemar.cat/document.php?id=29315
END:VEVENT
END:VCALENDAR