BEGIN:VCALENDAR
VERSION:2.0
PRODID:-//Plone.org//NONSGML plone.app.event//EN
X-WR-TIMEZONE:Europe/Madrid
BEGIN:VEVENT
SUMMARY:3a Cursa nocturna Sant Zenon
DTSTART;TZID=Europe/Madrid;VALUE=DATE-TIME:20150704T200000
DTEND;TZID=Europe/Madrid;VALUE=DATE-TIME:20150704T210000
DTSTAMP;VALUE=DATE-TIME:20260419T234917Z
UID:b5e7ed8ff227c85fae0507f0cbc19923
CREATED;VALUE=DATE-TIME:20150704T000000Z
CATEGORIES:Esports
LOCATION:Platja Picòrdia (1ª Platja)
ORGANIZER:Regidoria d'Esports i Gesport
DESCRIPTION:Circuit Maresme 5K
URL:https://arenysdemar.cat/document.php?id=29363
END:VEVENT
END:VCALENDAR